BEGIN:VCALENDAR
VERSION:2.0
PRODID:-//chikkutakku.com//RDFCal 1.0//EN
X-WR-CALDESC:GoogleカレンダーやiCalendar形式情報を共有シェ
 アしましょう。近所のイベントから全国のイベントま
 で今日のイベント検索やスケジュールを決めるならち
 っくたっく
X-WR-CALNAME:ちっくたっく
X-WR-TIMEZONE:UTC
BEGIN:VEVENT
SUMMARY:ROCKET【期間生産限定盤 CD＋Blu-ray＋グッズ】
DTSTART;VALUE=DATE:20260519
DTEND;VALUE=DATE:20260520
UID:456174829702
DESCRIPTION:2026-05-20ROCKET【期間生産限定盤 CD＋Blu-ray＋グッ
 ズ】BURNOUT SYNDROMES(株)ソニー・ミュージックレーベルズ
LOCATION:
END:VEVENT
END:VCALENDAR
