BEGIN:VCALENDAR
VERSION:2.0
PRODID:-//chikkutakku.com//RDFCal 1.0//EN
X-WR-CALDESC:GoogleカレンダーやiCalendar形式情報を共有シェ
 アしましょう。近所のイベントから全国のイベントま
 で今日のイベント検索やスケジュールを決めるならち
 っくたっく
X-WR-CALNAME:ちっくたっく
X-WR-TIMEZONE:UTC
BEGIN:VEVENT
SUMMARY:🚀🇺🇸🛰️📡 【04/21(火) 15:53 打ち上げ予定】 
 GPS III-8 打ち上げミッション
DTSTART;VALUE=DATE-TIME:20260421T064100Z
DTEND;VALUE=DATE-TIME:20260421T074100Z
UID:466309274400
DESCRIPTION:🚀🇺🇸🛰️📡 【04/21(火) 15:53 打ち上げ予定
 】 GPS III-8 打ち上げミッション #ascl #33ast #sorayo #33fan #Spa
 ceX #GPS #GPS3 #Falcon9SpaceX ファルコン9が、フロリダ州のケ
 ープカナベラル宇宙軍施設から、アメリカ宇宙軍の次
 世代GPS衛星「GPS III-8」を中軌道（MEO）へ向けて打ち上
 げます。📺 ライブ配信 (15:41 JST開始予定) [Xライブ] http
 s://x.com/i/broadcasts/1nGnRYzeRzEGO [SpaceX公式] https://www.spacex.com
 /launches/gpsiii8✅ ミッションハイライト 🗓 打上日時: 04/
 21(火) 15:53:00 JST (目標時刻) 🪟 打ち上げウィンドウ: 15:5
 3 - 16:08 JST 📍 着艦先: ドローン船 "Just Read the Instructions"
  (JRTI) 🚀🌊 ⏱ 着艦時刻: 16:01:34 JST (T+00:08:34 予定) 🛰 
 ペイロード: GPS III Space Vehicle 08✨ 第1段ブースター情報
 ：B1095 ✨ このブースターは今回で7回目の飛行となりま
 す。これまでは6回のStarlinkミッションを支えてきまし
 たが、今回は軍事的に重要なGPS衛星の打ち上げに挑み
 ます！切り離し後、大西洋上に待機するドローン船（JR
 TI）への着艦に注目です。
LOCATION:
END:VEVENT
END:VCALENDAR
