BEGIN:VCALENDAR
VERSION:2.0
PRODID:-//chikkutakku.com//RDFCal 1.0//EN
X-WR-CALDESC:GoogleカレンダーやiCalendar形式情報を共有シェ
 アしましょう。近所のイベントから全国のイベントま
 で今日のイベント検索やスケジュールを決めるならち
 っくたっく
X-WR-CALNAME:ちっくたっく
X-WR-TIMEZONE:UTC
BEGIN:VEVENT
SUMMARY:Friends Members Preview Book Sale
DTSTART;VALUE=DATE-TIME:20260507T200000Z
DTEND;VALUE=DATE-TIME:20260507T230000Z
UID:466354979170
DESCRIPTION:Become a Friends member and attend this special Friends only p
 review book sale! Book sale held in the library community room. Membership
 s can be purchased at the door: $5 Individual\, $10 Family\, $50 Business.
LOCATION:
END:VEVENT
END:VCALENDAR
