BEGIN:VCALENDAR
VERSION:2.0
PRODID:-//chikkutakku.com//RDFCal 1.0//EN
X-WR-CALDESC:GoogleカレンダーやiCalendar形式情報を共有シェ
 アしましょう。近所のイベントから全国のイベントま
 で今日のイベント検索やスケジュールを決めるならち
 っくたっく
X-WR-CALNAME:ちっくたっく
X-WR-TIMEZONE:UTC
BEGIN:VEVENT
SUMMARY:U15-2nd、TRM
DTSTART;VALUE=DATE-TIME:20260429T070000Z
DTEND;VALUE=DATE-TIME:20260429T103000Z
UID:467549131902
DESCRIPTION:17時 vs 浪速高校（25分×5）\n\n※参加費800円\n\n
 ※メンバー\nクラブユースメンバー以外\n\n※担当\n北山
 コーチ
LOCATION:高師浜運動広場(人工芝グラウンド)\, 日本、〒592
 -0006 大阪府高石市高師浜丁８
END:VEVENT
END:VCALENDAR
