BEGIN:VCALENDAR
VERSION:2.0
PRODID:-//chikkutakku.com//RDFCal 1.0//EN
X-WR-CALDESC:GoogleカレンダーやiCalendar形式情報を共有シェ
 アしましょう。近所のイベントから全国のイベントま
 で今日のイベント検索やスケジュールを決めるならち
 っくたっく
X-WR-CALNAME:ちっくたっく
X-WR-TIMEZONE:UTC
BEGIN:VEVENT
SUMMARY:【楽天ブックス限定配送パック】【楽天ブックス
 限定先着特典】TOKYOタクシー 豪華版Blu-ray (数量限定生
 産)【Blu-ray】(オリジナル ダイカットマルチファイル)
DTSTART;VALUE=DATE:20260519
DTEND;VALUE=DATE:20260520
UID:468604299826
DESCRIPTION:2026-05-20【楽天ブックス限定配送パック】【楽
 天ブックス限定先着特典】TOKYOタクシー 豪華版Blu-ray (
 数量限定生産)【Blu-ray】(オリジナル ダイカットマルチ
 ファイル)倍賞千恵子/木村拓哉/蒼井優/迫田孝也/優香/
 中島瑠菜/神野三鈴/イ・ジュニョン松竹(株)
LOCATION:
END:VEVENT
END:VCALENDAR
