BEGIN:VCALENDAR
VERSION:2.0
PRODID:-//chikkutakku.com//RDFCal 1.0//EN
X-WR-CALDESC:GoogleカレンダーやiCalendar形式情報を共有シェ
 アしましょう。近所のイベントから全国のイベントま
 で今日のイベント検索やスケジュールを決めるならち
 っくたっく
X-WR-CALNAME:ちっくたっく
X-WR-TIMEZONE:UTC
BEGIN:VEVENT
SUMMARY:【学術系？占いイベント】まじない町商店街
DTSTART;VALUE=DATE-TIME:20260426T110000Z
DTEND;VALUE=DATE-TIME:20260426T130000Z
UID:470782030517
DESCRIPTION:【イベント主催者】\n　ときりょう（tokiryou）\
 n【イベント内容】\n　『占いとはこんな感じ』のさわ
 りの部分を知ることに特化したイベントです。\n皆さん
 がなんとなく体験している占いの上澄みを知ることが
 でき、タロットなどの占いの頭の中を疑似体験できる
 サブイベントもあります。\n他にも商工主（主催）が酔
 っ払いのロールをしながらもガッツリ占いする異色の
 体験もできます。\n他にもタロットの練習もできますの
 で是非寄って行ってくださいね。\n【イベントジャンル
 】\n　店舗系イベント\, 学術系イベント\, ロールプレイ
 \n【参加条件（モデル、人数制限など）】\n　できるだ
 け軽いアバターでお願いします。\n【参加方法】\n　主
 催の「ときりょう（tokiryou）」にフレンド申請をして時
 間になったら「まじない町商店街」のフレンドインス
 タンスにJOIN\n【備考】\n　
LOCATION:
END:VEVENT
END:VCALENDAR
