BEGIN:VCALENDAR
VERSION:2.0
PRODID:-//chikkutakku.com//RDFCal 1.0//EN
X-WR-CALDESC:GoogleカレンダーやiCalendar形式情報を共有シェ
 アしましょう。近所のイベントから全国のイベントま
 で今日のイベント検索やスケジュールを決めるならち
 っくたっく
X-WR-CALNAME:ちっくたっく
X-WR-TIMEZONE:UTC
BEGIN:VEVENT
SUMMARY:【輸入盤】ピンク・ギターズ・スペースシップス
 ・ン・ヴードゥー・ドールズ（ブラック）（アナログ
 盤）
DTSTART;VALUE=DATE:20260521
DTEND;VALUE=DATE:20260522
UID:473298119983
DESCRIPTION:2026-05-22【輸入盤】ピンク・ギターズ・スペー
 スシップス・ン・ヴードゥー・ドールズ（ブラック）
 （アナログ盤）JUJU ROGERS
LOCATION:
END:VEVENT
END:VCALENDAR
