BEGIN:VCALENDAR
VERSION:2.0
PRODID:-//chikkutakku.com//RDFCal 1.0//EN
X-WR-CALDESC:GoogleカレンダーやiCalendar形式情報を共有シェ
 アしましょう。近所のイベントから全国のイベントま
 で今日のイベント検索やスケジュールを決めるならち
 っくたっく
X-WR-CALNAME:ちっくたっく
X-WR-TIMEZONE:UTC
BEGIN:VEVENT
SUMMARY:銀色の路―半田銀山異聞― 下
DTSTART;VALUE=DATE:20260518
DTEND;VALUE=DATE:20260519
UID:473570976716
DESCRIPTION:2026-05-19銀色の路―半田銀山異聞― 下安彦良和
 集英社
LOCATION:
END:VEVENT
END:VCALENDAR
