BEGIN:VCALENDAR
VERSION:2.0
PRODID:-//chikkutakku.com//RDFCal 1.0//EN
X-WR-CALDESC:GoogleカレンダーやiCalendar形式情報を共有シェ
 アしましょう。近所のイベントから全国のイベントま
 で今日のイベント検索やスケジュールを決めるならち
 っくたっく
X-WR-CALNAME:ちっくたっく
X-WR-TIMEZONE:UTC
BEGIN:VEVENT
SUMMARY:【注】ザ☆ウルトラマン #11 科学警備隊へのチャ
 レンジ!! / #12 怪獣とピグだけの不思議な会話 / #13 よみ
 がえった湖の悲しい伝説 / #14 悪魔の星が来た!! / #15 君
 がウルトラマンだ / #16 生きていた幻の鳥 / #17 ベータミ
 ーが消えた!! / #18 謎のモンスター島 / #19 これがウルト
 ラの星だ!!第1部 / #20 これがウルトラの星だ!!第2部
DTSTART;VALUE=DATE-TIME:20260420T190000Z
DTEND;VALUE=DATE-TIME:20260421T000000Z
UID:475696124875
DESCRIPTION: / #11 科学警備隊へのチャレンジ!! / #12 怪獣と
 ピグだけの不思議な会話 / #13 よみがえった湖の悲しい
 伝説 / #14 悪魔の星が来た!! / #15 君がウルトラマンだ / #
 16 生きていた幻の鳥 / #17 ベータミーが消えた!! / #18 謎
 のモンスター島 / #19 これがウルトラの星だ!!第1部 / #20 
 これがウルトラの星だ!!第2部 / ([[ファミリーアニメ2 htt
 ps://abema.tv/timetable/channels/family-anime-2]]) https://abema.tv/channe
 ls/family-anime-2/slots/AkN7W6Rw7qR99H リピート放送は 4/21(火) 13:
 30～ https://abema.tv/channels/family-anime-2/slots/Ah77n1hvN3nogj 、4/2
 1(火) 23:00～ https://abema.tv/channels/family-anime-2/slots/Ah77oXo6piP
 JP1 (無料TS1週間) https://prtimes.jp/main/html/rd/p/000002330.00006464
 3.html
LOCATION:ABEMA特設その他
END:VEVENT
END:VCALENDAR
