BEGIN:VCALENDAR
VERSION:2.0
PRODID:-//chikkutakku.com//RDFCal 1.0//EN
X-WR-CALDESC:GoogleカレンダーやiCalendar形式情報を共有シェ
 アしましょう。近所のイベントから全国のイベントま
 で今日のイベント検索やスケジュールを決めるならち
 っくたっく
X-WR-CALNAME:ちっくたっく
X-WR-TIMEZONE:UTC
BEGIN:VEVENT
SUMMARY:【楽天ブックス限定先着特典】Ichigo Ichie (超新星
 ジャケット盤 CD＋DVD＋PhotoBook)(初回限定盤)(缶バッジ(ラ
 ンダム1種))
DTSTART;VALUE=DATE:20260519
DTEND;VALUE=DATE:20260520
UID:476852163879
DESCRIPTION:2026-05-20【楽天ブックス限定先着特典】Ichigo Ich
 ie (超新星ジャケット盤 CD＋DVD＋PhotoBook)(初回限定盤)(缶
 バッジ(ランダム1種))超新星(株)徳間ジャパンコミュニ
 ケーションズ
LOCATION:
END:VEVENT
END:VCALENDAR
