BEGIN:VCALENDAR
VERSION:2.0
PRODID:-//chikkutakku.com//RDFCal 1.0//EN
X-WR-CALDESC:GoogleカレンダーやiCalendar形式情報を共有シェ
 アしましょう。近所のイベントから全国のイベントま
 で今日のイベント検索やスケジュールを決めるならち
 っくたっく
X-WR-CALNAME:ちっくたっく
X-WR-TIMEZONE:UTC
BEGIN:VEVENT
SUMMARY:建築職公務員試験 専門問題と解答 実践問題集編 
 第5版
DTSTART;VALUE=DATE:20260514
DTEND;VALUE=DATE:20260515
UID:480838061991
DESCRIPTION:2026-05-15建築職公務員試験 専門問題と解答 実
 践問題集編 第5版米田昌弘大学教育出版
LOCATION:
END:VEVENT
END:VCALENDAR
