BEGIN:VCALENDAR
VERSION:2.0
PRODID:-//chikkutakku.com//RDFCal 1.0//EN
X-WR-CALDESC:GoogleカレンダーやiCalendar形式情報を共有シェ
 アしましょう。近所のイベントから全国のイベントま
 で今日のイベント検索やスケジュールを決めるならち
 っくたっく
X-WR-CALNAME:ちっくたっく
X-WR-TIMEZONE:UTC
BEGIN:VEVENT
SUMMARY:【Android 対応】【TRPG集会】ダンジョンズ＆ドラゴ
 ンズ交流会
DTSTART;VALUE=DATE-TIME:20260420T110000Z
DTEND;VALUE=DATE-TIME:20260420T115000Z
UID:487046008159
DESCRIPTION:【イベント主催者】\n　火蜥蜴の宿\n【イベン
 ト内容】\n　こんにちは、VRChatでD&Dを遊ぶコミュニティ
 「火蜥蜴（ひとかげ）の宿」と申します。\n毎月1と20の
 つく日はTRPG『D&D（ダンジョンズアンドドラゴンズ）』
 の交流会イベントを実施しています。\nゲームを開催す
 るDMも集まるので、「こんなシナリオをしたい！」とい
 うリクエストがあれば言ってみるとやってくれるかも
 ！？\n映画「ダンジョンズアンドドラゴンズ～アウトロ
 ーたちの誇り～」や「シークレットレベルEP1」を見て
 興味を持った方も、D&D経験者、初心者の方関係なくフ
 ァン同士で語り合いましょう！\n VR機材なくてもデスク
 トップモードでも参加できます。\nワールドにはタグマ
 ーカーや戦闘の練習ができる訓練場も！\n【イベントジ
 ャンル】\n　ロールプレイ\, 初心者向けイベント\, 定期
 イベント\n【参加条件（モデル、人数制限など）】\n　D
 &Dが好きな方、D&D（TRPG）に興味のある方\n【参加方法】
 \n　当日までにVRChatグループ「火蜥蜴の宿」（VRDNDで検
 索）にご参加いただき、20:00になったらグループインス
 タンスのワールドにJoin\n【備考】\n　普段は火蜥蜴の宿
 のDiscordサーバー（https://discord.gg/nSKSp84aWN）で随時卓募
 集しておりますのでそちらもご覧ください。
LOCATION:
END:VEVENT
END:VCALENDAR
