BEGIN:VCALENDAR
VERSION:2.0
PRODID:-//chikkutakku.com//RDFCal 1.0//EN
X-WR-CALDESC:GoogleカレンダーやiCalendar形式情報を共有シェ
 アしましょう。近所のイベントから全国のイベントま
 で今日のイベント検索やスケジュールを決めるならち
 っくたっく
X-WR-CALNAME:ちっくたっく
X-WR-TIMEZONE:UTC
BEGIN:VEVENT
SUMMARY:4番
DTSTART;VALUE=DATE-TIME:20260517T050000Z
DTEND;VALUE=DATE-TIME:20260517T070000Z
UID:495201850515
DESCRIPTION:05239-02WAB 104: 交響曲第4番 変ホ長調「ロマンテ
 ィック」高橋 俊之 / 北区民オーケストラ出典魚拓
LOCATION:北とぴあ\, 日本、〒114-8503 東京都北区王子１丁
 目１１−１
END:VEVENT
END:VCALENDAR
