BEGIN:VCALENDAR
VERSION:2.0
PRODID:-//chikkutakku.com//RDFCal 1.0//EN
X-WR-CALDESC:GoogleカレンダーやiCalendar形式情報を共有シェ
 アしましょう。近所のイベントから全国のイベントま
 で今日のイベント検索やスケジュールを決めるならち
 っくたっく
X-WR-CALNAME:ちっくたっく
X-WR-TIMEZONE:UTC
BEGIN:VEVENT
SUMMARY:治安の悪い音楽イベント【Urban Riot】特別会
DTSTART;VALUE=DATE-TIME:20260420T140000Z
DTEND;VALUE=DATE-TIME:20260420T170000Z
UID:495590018228
DESCRIPTION:【イベント主催者】\n　67san\n【イベント内容
 】\n　このたび Club dazzling Night(\n@NightDazzl49170\n)さんとコ
 ラボ営業が決定しました！\n\nかつてないほど“治安の
 悪い”ダンスバトル。\n一瞬も目が離せない、緊張感MAX
 の夜をお届けします\n【イベントジャンル】\n　音楽系
 イベント\n【参加条件（モデル、人数制限など）】\n　
 特になし！\n【参加方法】\n　group+にてjoin\n【備考】\n
 　
LOCATION:
END:VEVENT
END:VCALENDAR
