BEGIN:VCALENDAR
VERSION:2.0
PRODID:-//chikkutakku.com//RDFCal 1.0//EN
X-WR-CALDESC:GoogleカレンダーやiCalendar形式情報を共有シェ
 アしましょう。近所のイベントから全国のイベントま
 で今日のイベント検索やスケジュールを決めるならち
 っくたっく
X-WR-CALNAME:ちっくたっく
X-WR-TIMEZONE:UTC
BEGIN:VEVENT
SUMMARY:Eastern Zone Y7/8 Girls Football
DTSTART;VALUE=DATE:20260506
DTEND;VALUE=DATE:20260507
UID:496714212821
DESCRIPTION:Eastern Zone Y7/8 Girls Football
LOCATION:Michaels Avenue Reserve\, 46 Michaels Avenue\, Ellerslie\, Auckla
 nd 1051\, New Zealand
END:VEVENT
END:VCALENDAR
