BEGIN:VCALENDAR
VERSION:2.0
PRODID:-//chikkutakku.com//RDFCal 1.0//EN
X-WR-CALDESC:GoogleカレンダーやiCalendar形式情報を共有シェ
 アしましょう。近所のイベントから全国のイベントま
 で今日のイベント検索やスケジュールを決めるならち
 っくたっく
X-WR-CALNAME:ちっくたっく
X-WR-TIMEZONE:UTC
BEGIN:VEVENT
SUMMARY:身心靈岩盤浴時間 天母（樂）
DTSTART;VALUE=DATE-TIME:20260422T023000Z
DTEND;VALUE=DATE-TIME:20260422T093000Z
UID:497233448185
DESCRIPTION:身心靈岩盤浴時間 天母（樂）
LOCATION:
END:VEVENT
END:VCALENDAR
