BEGIN:VCALENDAR
VERSION:2.0
PRODID:-//chikkutakku.com//RDFCal 1.0//EN
X-WR-CALDESC:GoogleカレンダーやiCalendar形式情報を共有シェ
 アしましょう。近所のイベントから全国のイベントま
 で今日のイベント検索やスケジュールを決めるならち
 っくたっく
X-WR-CALNAME:ちっくたっく
X-WR-TIMEZONE:UTC
BEGIN:VEVENT
SUMMARY:●ごりやくさん[再] 4/22(水)3:30-4:00 BS11イレブン(Ch.
 211)
DTSTART;VALUE=DATE-TIME:20260421T183000Z
DTEND;VALUE=DATE-TIME:20260421T190000Z
UID:502031303196
DESCRIPTION:●ごりやくさん[再]\n4/22(水)3:30-4:00BS11イレブン
 (Ch.211)\n第50回「総集編」\n①弘法大師・空海を高野山へ
 と誘い、大和国、紀伊国に農耕を広めた神、和歌山県
 の丹生都比売神社（にうつひめじんじゃ）。  ②京都市
 北部、「源の水」を司り、人々の暮らしを見守り続け
 てきた水の神様、京都府の貴船神社。  ③遥か1300年前
 、聖なる山に神殿を築き、国家鎮護の願いの下、四柱
 の神をお祀りした春日大社。  ④新しい国づくりを目指
 し、近江大津の地に都を築いた天智天皇を祀る滋賀県
 の近江神宮。⑤至誠に生きた武将「楠木正成公」を祀
 り、神戸っ子は「楠公（なんこう）さん」と親しむ兵
 庫県の湊川神社。  ⑥遥か神代の昔、天津神の国「高天
 原（たかまがはら）」よりこの地に降臨した「瓊瓊杵
 尊（ニニギノミコト）」を祀る鹿児島県の霧島神宮。  
 以上６つの神社をハイライトでご紹介。\nhttps://www.bs11.j
 p/education/goriyakusan/
LOCATION:
END:VEVENT
END:VCALENDAR
