BEGIN:VCALENDAR
VERSION:2.0
PRODID:-//chikkutakku.com//RDFCal 1.0//EN
X-WR-CALDESC:GoogleカレンダーやiCalendar形式情報を共有シェ
 アしましょう。近所のイベントから全国のイベントま
 で今日のイベント検索やスケジュールを決めるならち
 っくたっく
X-WR-CALNAME:ちっくたっく
X-WR-TIMEZONE:UTC
BEGIN:VEVENT
SUMMARY:(รองพิเชฏฐ์ ประธานเปิดก
 ารประชุมตรวจเยี่ยมหน่วยบ
 ริการที่มีความเสี่ยงการเ
 กิดวิกฤตการเงินการคลังคร
 ั้งที่หนึ่งปีงบประมาณ 2569 ณ 
 ห้องประชุมVideo conference
DTSTART;VALUE=DATE-TIME:20260424T020000Z
DTEND;VALUE=DATE-TIME:20260424T033000Z
UID:505697136849
DESCRIPTION:(รองพิเชฏฐ์ ประธานเปิด
 การประชุมตรวจเยี่ยมหน่วย
 บริการที่มีความเสี่ยงการ
 เกิดวิกฤตการเงินการคลังค
 รั้งที่หนึ่งปีงบประมาณ 2569 
 ณ ห้องประชุมVideo conference
LOCATION:
END:VEVENT
END:VCALENDAR
