BEGIN:VCALENDAR
VERSION:2.0
PRODID:-//chikkutakku.com//RDFCal 1.0//EN
X-WR-CALDESC:GoogleカレンダーやiCalendar形式情報を共有シェ
 アしましょう。近所のイベントから全国のイベントま
 で今日のイベント検索やスケジュールを決めるならち
 っくたっく
X-WR-CALNAME:ちっくたっく
X-WR-TIMEZONE:UTC
BEGIN:VEVENT
SUMMARY:【Android 対応】【DJダンスイベント】HEARTSOME Vol.27
 【初心者歓迎】
DTSTART;VALUE=DATE-TIME:20260424T114500Z
DTEND;VALUE=DATE-TIME:20260424T150000Z
UID:507068369188
DESCRIPTION:【イベント主催者】\n　CHELSEA_JP\n【イベント内
 容】\n　DJとダンサーが盛り上げるパーティイベントで
 す\n初心者歓迎！\n気軽に参加出来るイベント作りを目
 指しています\n出入りは自由ですので是非遊びに来てく
 ださいね！\n\nQuest/Pico単機に対応しております。（スマ
 ホ板は未確認)\n【イベントジャンル】\n　VR飲み会\, 音
 楽系イベント\, 初心者向けイベント\n【参加条件（モデ
 ル、人数制限など）】\n　誰でも参加OK\n【参加方法】\n
 　下記どちらかの方法で参加ください\n①事前にCHELSEA_J
 Pへフレンド申請して当日にJOIN(入る)\n②グループ「HEART
 SOME」に参加して当日のグループインスタンスへJOIN(入
 る)\n【備考】\n　https://x.com/chelsea_jp0/status/204244711615360220
 6?s=20
LOCATION:
END:VEVENT
END:VCALENDAR
