BEGIN:VCALENDAR
VERSION:2.0
PRODID:-//chikkutakku.com//RDFCal 1.0//EN
X-WR-CALDESC:GoogleカレンダーやiCalendar形式情報を共有シェ
 アしましょう。近所のイベントから全国のイベントま
 で今日のイベント検索やスケジュールを決めるならち
 っくたっく
X-WR-CALNAME:ちっくたっく
X-WR-TIMEZONE:UTC
BEGIN:VEVENT
SUMMARY:山川セレクト 大学入試精選問題集 日本史
DTSTART;VALUE=DATE:20260426
DTEND;VALUE=DATE:20260427
UID:519757147444
DESCRIPTION:2026-04-27山川セレクト 大学入試精選問題集 日
 本史梶原 崇史/川崎 玉幸/島津 聡/紫村 英敬/野口 慧山
 川出版社
LOCATION:
END:VEVENT
END:VCALENDAR
