BEGIN:VCALENDAR
VERSION:2.0
PRODID:-//chikkutakku.com//RDFCal 1.0//EN
X-WR-CALDESC:GoogleカレンダーやiCalendar形式情報を共有シェ
 アしましょう。近所のイベントから全国のイベントま
 で今日のイベント検索やスケジュールを決めるならち
 っくたっく
X-WR-CALNAME:ちっくたっく
X-WR-TIMEZONE:UTC
BEGIN:VEVENT
SUMMARY:竹引き鋸20、小刀40、電子ポット２　　木谷一人
DTSTART;VALUE=DATE-TIME:20260513T000000Z
DTEND;VALUE=DATE-TIME:20260513T050000Z
UID:522693044492
DESCRIPTION:使用日：４月10日、22日、5月13日　【使用目的
 】　森のようちえん活動
LOCATION:
END:VEVENT
END:VCALENDAR
