BEGIN:VCALENDAR
VERSION:2.0
PRODID:-//chikkutakku.com//RDFCal 1.0//EN
X-WR-CALDESC:GoogleカレンダーやiCalendar形式情報を共有シェ
 アしましょう。近所のイベントから全国のイベントま
 で今日のイベント検索やスケジュールを決めるならち
 っくたっく
X-WR-CALNAME:ちっくたっく
X-WR-TIMEZONE:UTC
BEGIN:VEVENT
SUMMARY:仮)打合せのため
DTSTART;VALUE=DATE-TIME:20260423T010000Z
DTEND;VALUE=DATE-TIME:20260423T020000Z
UID:525304666703
DESCRIPTION:▼申込内容\n予約日時: 2026/04/20 17:25:12\nお名前
 　: 大津　彩華(広報・基金室)\n予約日　: 2026/04/23(木)\n
 予約時間: 10:00～11:00
LOCATION:
END:VEVENT
END:VCALENDAR
