BEGIN:VCALENDAR
VERSION:2.0
PRODID:-//chikkutakku.com//RDFCal 1.0//EN
X-WR-CALDESC:GoogleカレンダーやiCalendar形式情報を共有シェ
 アしましょう。近所のイベントから全国のイベントま
 で今日のイベント検索やスケジュールを決めるならち
 っくたっく
X-WR-CALNAME:ちっくたっく
X-WR-TIMEZONE:UTC
BEGIN:VEVENT
SUMMARY:CF R
DTSTART;VALUE=DATE-TIME:20260506T060500Z
DTEND;VALUE=DATE-TIME:20260506T083500Z
UID:525634298775
DESCRIPTION:Codeforces Round (Div. 1)\nCodeforces Round (Div. 2)\n\nRated\
 n\nAdded automatically
LOCATION:https://codeforces.com/contests/2223\,2224
END:VEVENT
END:VCALENDAR
