BEGIN:VCALENDAR
VERSION:2.0
PRODID:-//chikkutakku.com//RDFCal 1.0//EN
X-WR-CALDESC:GoogleカレンダーやiCalendar形式情報を共有シェ
 アしましょう。近所のイベントから全国のイベントま
 で今日のイベント検索やスケジュールを決めるならち
 っくたっく
X-WR-CALNAME:ちっくたっく
X-WR-TIMEZONE:UTC
BEGIN:VEVENT
SUMMARY:僕らの青春は歪んでいる 特装版
DTSTART;VALUE=DATE:20260520
DTEND;VALUE=DATE:20260521
UID:527295085708
DESCRIPTION:2026-05-21僕らの青春は歪んでいる 特装版飴玉舐
 め子三交社
LOCATION:
END:VEVENT
END:VCALENDAR
