BEGIN:VCALENDAR
VERSION:2.0
PRODID:-//chikkutakku.com//RDFCal 1.0//EN
X-WR-CALDESC:GoogleカレンダーやiCalendar形式情報を共有シェ
 アしましょう。近所のイベントから全国のイベントま
 で今日のイベント検索やスケジュールを決めるならち
 っくたっく
X-WR-CALNAME:ちっくたっく
X-WR-TIMEZONE:UTC
BEGIN:VEVENT
SUMMARY:(นพ.สสจ.)เชิญเข้าร่วมกิจ
 กรรม Morning talk (แต่งกายใส่ชุดจั
 งหวัดสีขาว ใหม่ล่าสุด)
DTSTART;VALUE=DATE-TIME:20260421T000000Z
DTEND;VALUE=DATE-TIME:20260421T020000Z
UID:529071043820
DESCRIPTION:(นพ.สสจ.)เชิญเข้าร่วมกิ
 จกรรม Morning talk (แต่งกายใส่ชุดจ
 ังหวัดสีขาว ใหม่ล่าสุด)
LOCATION:อนุสรณ์สถานแฝดสยามอิน-
 จัน  ตำบล ลาดใหญ่ อำเภอเมือ
 งสมุทรสงคราม สมุทรสงคราม 750
 00 ประเทศไทย
END:VEVENT
END:VCALENDAR
