BEGIN:VCALENDAR
VERSION:2.0
PRODID:-//chikkutakku.com//RDFCal 1.0//EN
X-WR-CALDESC:GoogleカレンダーやiCalendar形式情報を共有シェ
 アしましょう。近所のイベントから全国のイベントま
 で今日のイベント検索やスケジュールを決めるならち
 っくたっく
X-WR-CALNAME:ちっくたっく
X-WR-TIMEZONE:UTC
BEGIN:VEVENT
SUMMARY:論文から技術文書まで 「AI翻訳」で書く理系英語
 入門
DTSTART;VALUE=DATE:20260520
DTEND;VALUE=DATE:20260521
UID:535134324603
DESCRIPTION:2026-05-21論文から技術文書まで 「AI翻訳」で書
 く理系英語入門森 弘之講談社
LOCATION:
END:VEVENT
END:VCALENDAR
