BEGIN:VCALENDAR
VERSION:2.0
PRODID:-//chikkutakku.com//RDFCal 1.0//EN
X-WR-CALDESC:GoogleカレンダーやiCalendar形式情報を共有シェ
 アしましょう。近所のイベントから全国のイベントま
 で今日のイベント検索やスケジュールを決めるならち
 っくたっく
X-WR-CALNAME:ちっくたっく
X-WR-TIMEZONE:UTC
BEGIN:VEVENT
SUMMARY:星屑の王子様（10）
DTSTART;VALUE=DATE:20260518
DTEND;VALUE=DATE:20260519
UID:541241330775
DESCRIPTION:2026-05-19星屑の王子様（10）茅原 クレセ小学館
LOCATION:
END:VEVENT
END:VCALENDAR
