BEGIN:VCALENDAR
VERSION:2.0
PRODID:-//chikkutakku.com//RDFCal 1.0//EN
X-WR-CALDESC:GoogleカレンダーやiCalendar形式情報を共有シェ
 アしましょう。近所のイベントから全国のイベントま
 で今日のイベント検索やスケジュールを決めるならち
 っくたっく
X-WR-CALNAME:ちっくたっく
X-WR-TIMEZONE:UTC
BEGIN:VEVENT
SUMMARY:SMB3 Randomizer
DTSTART;VALUE=DATE-TIME:20260422T020000Z
DTEND;VALUE=DATE-TIME:20260422T040000Z
UID:541674302523
DESCRIPTION:Super Mario Bros. 3 Randomizer Tournament\nequations19 vs ShyG
 uy\nhttp://twitch.tv/SpeedGaming\n\n\n[updated 2026-04-21T02:25:41+00:00]
LOCATION:
END:VEVENT
END:VCALENDAR
