BEGIN:VCALENDAR
VERSION:2.0
PRODID:-//chikkutakku.com//RDFCal 1.0//EN
X-WR-CALDESC:GoogleカレンダーやiCalendar形式情報を共有シェ
 アしましょう。近所のイベントから全国のイベントま
 で今日のイベント検索やスケジュールを決めるならち
 っくたっく
X-WR-CALNAME:ちっくたっく
X-WR-TIMEZONE:UTC
BEGIN:VEVENT
SUMMARY:【Android 対応】初心者向け交流イベント第230回水
 曜Quest初心者の集い
DTSTART;VALUE=DATE-TIME:20260422T120000Z
DTEND;VALUE=DATE-TIME:20260422T130000Z
UID:546392007391
DESCRIPTION:【イベント主催者】\n　児玉ひかり\n【イベン
 ト内容】\n　初心者と会いたい人が集まって雑談するイ
 ベントです\n【イベントジャンル】\n　その他交流会\, 
 初心者向けイベント\, 定期イベント\n【参加条件（モデ
 ル、人数制限など）】\n　Android対応アバターの着用を
 推奨します\n【参加方法】\n　SUIQ21.7777( https://vrc.group/SUI
 Q21.7777 )に加入してインスタンスに入る\n(グループ+で開
 きます)\n【備考】\n　https://x.com/suiQ_21/status/2045794494982017
 530
LOCATION:
END:VEVENT
END:VCALENDAR
