BEGIN:VCALENDAR
VERSION:2.0
PRODID:-//chikkutakku.com//RDFCal 1.0//EN
X-WR-CALDESC:GoogleカレンダーやiCalendar形式情報を共有シェ
 アしましょう。近所のイベントから全国のイベントま
 で今日のイベント検索やスケジュールを決めるならち
 っくたっく
X-WR-CALNAME:ちっくたっく
X-WR-TIMEZONE:UTC
BEGIN:VEVENT
SUMMARY:Hartley 16 Regatta
DTSTART;VALUE=DATE:20260515
DTEND;VALUE=DATE:20260516
UID:557714005621
DESCRIPTION:Gates Open:       07:45amRace Start:          08:45am
 High Tide:            10:20amTide Height:        4.1OOD:  TBC
LOCATION:
END:VEVENT
END:VCALENDAR
