BEGIN:VCALENDAR
VERSION:2.0
PRODID:-//chikkutakku.com//RDFCal 1.0//EN
X-WR-CALDESC:GoogleカレンダーやiCalendar形式情報を共有シェ
 アしましょう。近所のイベントから全国のイベントま
 で今日のイベント検索やスケジュールを決めるならち
 っくたっく
X-WR-CALNAME:ちっくたっく
X-WR-TIMEZONE:UTC
BEGIN:VEVENT
SUMMARY:パピヨンcafe
DTSTART;VALUE=DATE-TIME:20260430T140000Z
DTEND;VALUE=DATE-TIME:20260430T153000Z
UID:558709126940
DESCRIPTION:【イベント主催者】\n　ぽにき\n【イベント内
 容】\n　何も考えないでのんびりしゃべろう、がコンセ
 プトの人外が営業しているcafeです。 オリジナルカクテ
 ルが50以上のcafeよりbarな品数です! 時折個性的なイベン
 トを突発的に行っております。 キャストにオセロやダ
 ーツで勝利すると特別な事や特別なカクテルの提供が
 あります! フッ軽な気持ちでご来店くださいませ。\n【
 イベントジャンル】\n　店舗系イベント\n【参加条件（
 モデル、人数制限など）】\n　50mb以下\n版権アバターは
 お断りしております\n【参加方法】\n　グループ+\n【備
 考】\n　詳しくはグループに記載してあります\n分から
 ないことは主催のX @VRCONIKI まで
LOCATION:
END:VEVENT
END:VCALENDAR
