BEGIN:VCALENDAR
VERSION:2.0
PRODID:-//chikkutakku.com//RDFCal 1.0//EN
X-WR-CALDESC:GoogleカレンダーやiCalendar形式情報を共有シェ
 アしましょう。近所のイベントから全国のイベントま
 で今日のイベント検索やスケジュールを決めるならち
 っくたっく
X-WR-CALNAME:ちっくたっく
X-WR-TIMEZONE:UTC
BEGIN:VEVENT
SUMMARY:[第4回]なんで屋ねん
DTSTART;VALUE=DATE-TIME:20260425T130000Z
DTEND;VALUE=DATE-TIME:20260425T140000Z
UID:559357565854
DESCRIPTION:【イベント主催者】\n　よしくんやで\n【イベ
 ント内容】\n　キャストが全員関西弁の大衆居酒屋です
 ！\nみんなでわいわいがやがやしながら楽しく飲んでま
 す！\nお酒が飲めない人も大歓迎です！\n【イベントジ
 ャンル】\n　VR飲み会\n【参加条件（モデル、人数制限
 など）】\n　PC or PCVR\n【参加方法】\n　グループインス
 タンスにjoin\n【備考】\n　なんで屋ねんグループ→NANDE.
 6319\nグループに参加することが難しい方は「よしくん
 やで」に直接フレンド送ってjoinしてもらって大丈夫で
 す！
LOCATION:
END:VEVENT
END:VCALENDAR
