BEGIN:VCALENDAR
VERSION:2.0
PRODID:-//chikkutakku.com//RDFCal 1.0//EN
X-WR-CALDESC:GoogleカレンダーやiCalendar形式情報を共有シェ
 アしましょう。近所のイベントから全国のイベントま
 で今日のイベント検索やスケジュールを決めるならち
 っくたっく
X-WR-CALNAME:ちっくたっく
X-WR-TIMEZONE:UTC
BEGIN:VEVENT
SUMMARY:クラウドネイティブ会議 プレイベント in Nagoya × 
 俺の勉強会1周年祭
DTSTART;VALUE=DATE-TIME:20260429T010000Z
DTEND;VALUE=DATE-TIME:20260429T070000Z
UID:562402567658
DESCRIPTION:https://kaigi.cloudnativedays.jp/blog/pre-event-tokyo-nagoya/
LOCATION:名古屋城本丸御殿 孔雀之間
END:VEVENT
END:VCALENDAR
