BEGIN:VCALENDAR
VERSION:2.0
PRODID:-//chikkutakku.com//RDFCal 1.0//EN
X-WR-CALDESC:GoogleカレンダーやiCalendar形式情報を共有シェ
 アしましょう。近所のイベントから全国のイベントま
 で今日のイベント検索やスケジュールを決めるならち
 っくたっく
X-WR-CALNAME:ちっくたっく
X-WR-TIMEZONE:UTC
BEGIN:VEVENT
SUMMARY:福澤希空ファースト写真集 希空 ノゾミゾラ
DTSTART;VALUE=DATE:20260521
DTEND;VALUE=DATE:20260522
UID:564154464280
DESCRIPTION:2026-05-22福澤希空ファースト写真集 希空 ノゾ
 ミゾラ福澤希空主婦と生活社
LOCATION:
END:VEVENT
END:VCALENDAR
