BEGIN:VCALENDAR
VERSION:2.0
PRODID:-//chikkutakku.com//RDFCal 1.0//EN
X-WR-CALDESC:GoogleカレンダーやiCalendar形式情報を共有シェ
 アしましょう。近所のイベントから全国のイベントま
 で今日のイベント検索やスケジュールを決めるならち
 っくたっく
X-WR-CALNAME:ちっくたっく
X-WR-TIMEZONE:UTC
BEGIN:VEVENT
SUMMARY:CJC Club Run - Old 13 (Start from Bradbury)
DTSTART;VALUE=DATE-TIME:20260426T211500Z
DTEND;VALUE=DATE-TIME:20260426T224500Z
UID:565338749372
DESCRIPTION:Meet at 7am for run briefing. Run starts at 7:15am.\n\nCourse 
 map - https://www.mapmyrun.com/routes/view/5343152614
LOCATION:Bradbury Oval\, Bradbury Pk\, Bradbury NSW 2560\, Australia
END:VEVENT
END:VCALENDAR
