BEGIN:VCALENDAR
VERSION:2.0
PRODID:-//chikkutakku.com//RDFCal 1.0//EN
X-WR-CALDESC:GoogleカレンダーやiCalendar形式情報を共有シェ
 アしましょう。近所のイベントから全国のイベントま
 で今日のイベント検索やスケジュールを決めるならち
 っくたっく
X-WR-CALNAME:ちっくたっく
X-WR-TIMEZONE:UTC
BEGIN:VEVENT
SUMMARY:【注】真・進化の実 #1 ようこそ！バーバドル魔
 法学園へ / #2 教師はつらいよ / #3 誠一 VS. Fクラス / #4 
 再会、神無月華蓮 / #5 使徒、来襲 / #6 決戦！バーバド
 ル魔法学園 / #7 誠一、死す / #8 忍び寄る四天王 / #9 鏡
 変のゲンペル / #10 共鳴のヴィトール / #11 絶死のデスト
 ラ / #12 真・進化の実
DTSTART;VALUE=DATE-TIME:20260422T110000Z
DTEND;VALUE=DATE-TIME:20260422T170000Z
UID:565800748526
DESCRIPTION: / #1 ようこそ！バーバドル魔法学園へ / #2 教
 師はつらいよ / #3 誠一 VS. Fクラス / #4 再会、神無月華
 蓮 / #5 使徒、来襲 / #6 決戦！バーバドル魔法学園 / #7 
 誠一、死す / #8 忍び寄る四天王 / #9 鏡変のゲンペル / #1
 0 共鳴のヴィトール / #11 絶死のデストラ / #12 真・進化
 の実 / ([[アニメSPECIAL2 https://abema.tv/timetable/channels/anime-sp
 ecial-2]]) https://abema.tv/channels/anime-special-2/slots/AkN7ZjnXYzDF6P 
 リピート放送は 4/23(木) 14:00～ https://abema.tv/channels/anime-s
 pecial-2/slots/EvABNjWUBCiUab (無料TS1週間)
LOCATION:ABEMA特設その他
END:VEVENT
END:VCALENDAR
