BEGIN:VCALENDAR
VERSION:2.0
PRODID:-//chikkutakku.com//RDFCal 1.0//EN
X-WR-CALDESC:GoogleカレンダーやiCalendar形式情報を共有シェ
 アしましょう。近所のイベントから全国のイベントま
 で今日のイベント検索やスケジュールを決めるならち
 っくたっく
X-WR-CALNAME:ちっくたっく
X-WR-TIMEZONE:UTC
BEGIN:VEVENT
SUMMARY:ニュートン＋新書 イグ・ノーベル賞の受賞者た
 ち
DTSTART;VALUE=DATE:20260423
DTEND;VALUE=DATE:20260424
UID:572389746864
DESCRIPTION:2026-04-24ニュートン＋新書 イグ・ノーベル賞の
 受賞者たちニュートン編集部ニュートンプレス
LOCATION:
END:VEVENT
END:VCALENDAR
