BEGIN:VCALENDAR
VERSION:2.0
PRODID:-//chikkutakku.com//RDFCal 1.0//EN
X-WR-CALDESC:GoogleカレンダーやiCalendar形式情報を共有シェ
 アしましょう。近所のイベントから全国のイベントま
 で今日のイベント検索やスケジュールを決めるならち
 っくたっく
X-WR-CALNAME:ちっくたっく
X-WR-TIMEZONE:UTC
BEGIN:VEVENT
SUMMARY:RHN vs Lucas Meyer (Away)
DTSTART;VALUE=DATE:20260422
DTEND;VALUE=DATE:20260423
UID:574392971210
DESCRIPTION:Chess: Top 5 players\nNetball: u10 A\, u11 A\, 3rd and 2nd\nGi
 rls Hockey: u11\, 2nd and 1st\nRugby: u9\, u11\, 2nd and 1st\n\nThe bus wi
 ll depart from school at 10:00
LOCATION:
END:VEVENT
END:VCALENDAR
