BEGIN:VCALENDAR
VERSION:2.0
PRODID:-//chikkutakku.com//RDFCal 1.0//EN
X-WR-CALDESC:GoogleカレンダーやiCalendar形式情報を共有シェ
 アしましょう。近所のイベントから全国のイベントま
 で今日のイベント検索やスケジュールを決めるならち
 っくたっく
X-WR-CALNAME:ちっくたっく
X-WR-TIMEZONE:UTC
BEGIN:VEVENT
SUMMARY:らんま1/2(2025) #16 「マリンウォーズ」
DTSTART;VALUE=DATE-TIME:20260424T170000Z
DTEND;VALUE=DATE-TIME:20260424T173000Z
UID:575361906551
DESCRIPTION:16 / マリンウォーズ / 
LOCATION:BS日テレ
END:VEVENT
END:VCALENDAR
