BEGIN:VCALENDAR
VERSION:2.0
PRODID:-//chikkutakku.com//RDFCal 1.0//EN
X-WR-CALDESC:GoogleカレンダーやiCalendar形式情報を共有シェ
 アしましょう。近所のイベントから全国のイベントま
 で今日のイベント検索やスケジュールを決めるならち
 っくたっく
X-WR-CALNAME:ちっくたっく
X-WR-TIMEZONE:UTC
BEGIN:VEVENT
SUMMARY:204号室 (初回生産限定盤 CD＋DVD)
DTSTART;VALUE=DATE:20260519
DTEND;VALUE=DATE:20260520
UID:587426338429
DESCRIPTION:2026-05-20204号室 (初回生産限定盤 CD＋DVD)なきご
 と(株)ソニー・ミュージックレーベルズ
LOCATION:
END:VEVENT
END:VCALENDAR
