BEGIN:VCALENDAR
VERSION:2.0
PRODID:-//chikkutakku.com//RDFCal 1.0//EN
X-WR-CALDESC:GoogleカレンダーやiCalendar形式情報を共有シェ
 アしましょう。近所のイベントから全国のイベントま
 で今日のイベント検索やスケジュールを決めるならち
 っくたっく
X-WR-CALNAME:ちっくたっく
X-WR-TIMEZONE:UTC
BEGIN:VEVENT
SUMMARY:Virtual Idol Nights feat. #夜中でも音楽が聴きたい
DTSTART;VALUE=DATE-TIME:20260421T120000Z
DTEND;VALUE=DATE-TIME:20260421T150000Z
UID:589006402102
DESCRIPTION:【イベント主催者】\n　Marifu、つんぴり\n【イ
 ベント内容】\n　株式会社バーチャルパーティ様が制作
 するVRアナログゲーム「スターリーチフェスティバルVR
 」と、 DJイベント「#夜中でも音楽が聴きたい」のコラ
 ボイベントとなります！\n\n仮想キャラクター楽曲Onlyの
 DJイベント兼、「スターリーチフェスティバルVR」の体
 験会になっていますので、音楽が聴きたい方もゲーム
 を体験してみたい方もぜひお気軽にご参加ください！\n
 【イベントジャンル】\n　その他交流会\, 音楽系イベン
 ト\n【参加条件（モデル、人数制限など）】\n　アバタ
 ーのDLサイズが30MB以下になるようご協力をお願いいた
 します。\n【参加方法】\n　各出演者 or Group+(YONAKA.7441)\n
 【備考】\n　2インスタンスでの開催になります。\n出演
 DJがインスタンスによって異なりますので、公式X(@yonaka
 _vrc)をご確認ください。
LOCATION:
END:VEVENT
END:VCALENDAR
