BEGIN:VCALENDAR
VERSION:2.0
PRODID:-//chikkutakku.com//RDFCal 1.0//EN
X-WR-CALDESC:GoogleカレンダーやiCalendar形式情報を共有シェ
 アしましょう。近所のイベントから全国のイベントま
 で今日のイベント検索やスケジュールを決めるならち
 っくたっく
X-WR-CALNAME:ちっくたっく
X-WR-TIMEZONE:UTC
BEGIN:VEVENT
SUMMARY:(ผช.ศิวิไล)เชิญเข้าร่วมพ
 ิธีเปิดประชุมพัฒนาศักยภา
 พบุคลากรสธ.ในการจัดบริการ
 สุขภาพด้วยเวชศาสตร์วิถีช
 ีวิต เขต5
DTSTART;VALUE=DATE-TIME:20260430T020000Z
DTEND;VALUE=DATE-TIME:20260430T050000Z
UID:602227937932
DESCRIPTION:(ผช.ศิวิไล)เชิญเข้าร่ว
 มพิธีเปิดประชุมพัฒนาศักย
 ภาพบุคลากรสธ.ในการจัดบริก
 ารสุขภาพด้วยเวชศาสตร์วิถ
 ีชีวิต เขต5
LOCATION:ณ ห้องประชุมราชาวดี ศูน
 ย์อนามัยเขต5 ราชบุรี
END:VEVENT
END:VCALENDAR
