BEGIN:VCALENDAR
VERSION:2.0
PRODID:-//chikkutakku.com//RDFCal 1.0//EN
X-WR-CALDESC:GoogleカレンダーやiCalendar形式情報を共有シェ
 アしましょう。近所のイベントから全国のイベントま
 で今日のイベント検索やスケジュールを決めるならち
 っくたっく
X-WR-CALNAME:ちっくたっく
X-WR-TIMEZONE:UTC
BEGIN:VEVENT
SUMMARY:Tent 1 Booked (805) Confirmed
DTSTART;VALUE=DATE:20260430
DTEND;VALUE=DATE:20260507
UID:603745154716
DESCRIPTION:Tent 1 Booked (805) Confirmed
LOCATION:
END:VEVENT
END:VCALENDAR
