BEGIN:VCALENDAR
VERSION:2.0
PRODID:-//chikkutakku.com//RDFCal 1.0//EN
X-WR-CALDESC:GoogleカレンダーやiCalendar形式情報を共有シェ
 アしましょう。近所のイベントから全国のイベントま
 で今日のイベント検索やスケジュールを決めるならち
 っくたっく
X-WR-CALNAME:ちっくたっく
X-WR-TIMEZONE:UTC
BEGIN:VEVENT
SUMMARY:💉🖤UE Garden Resort\n『DREAM Palette』1部
DTSTART;VALUE=DATE-TIME:20260426T023000Z
DTEND;VALUE=DATE-TIME:20260426T055500Z
UID:604478355126
DESCRIPTION:2026年4月26日(日)\n『DREAM Palette』1部\n\n会場：UE 
 Garden Resort\n時間：開場 11:30 / 開演 11:45\n料金：2\,500円
 （1ドリンク+1フード券付き）\n【出演者】\nNs.aoi\nCroire G
 rato-クログラ-\nMihiro\n桜宮蓮\nママぱら\n\n＜4.26 予約サ
 イト＞\nhttps://tiget.net/events/483546\n\n11:45-12:10 Ns.aoi(25)\n(並
 行物販 A 12:15-13:15)\n12:10-12:35 桜宮蓮(25)\n(終演後物販)\n12
 :35-13:00 Mihiro(25)\n(終演後物販)\n13:00-13:25 ママぱら(25)\n(
 終演後物販)\n13:25-13:50 Croire Grato-クログラ-(25)\n(終演後
 物販)\n　13:50-13:55 調整時間(5)\n13:55-14:55 終演後物販(60)\n
 \nNs.aoi予約特典：ポイントカード2pt+特典券\nクログラ予
 約特典：通常チンチロ(通し：囲み写メ)\n※あおはる
LOCATION:UE GARDEN RESORT (ホテル&グランピング)\, 日本、〒283
 -0801 千葉県東金市八坂台１丁目８−１
END:VEVENT
END:VCALENDAR
