BEGIN:VCALENDAR
VERSION:2.0
PRODID:-//chikkutakku.com//RDFCal 1.0//EN
X-WR-CALDESC:GoogleカレンダーやiCalendar形式情報を共有シェ
 アしましょう。近所のイベントから全国のイベントま
 で今日のイベント検索やスケジュールを決めるならち
 っくたっく
X-WR-CALNAME:ちっくたっく
X-WR-TIMEZONE:UTC
BEGIN:VEVENT
SUMMARY:サービス管理責任者研修
DTSTART;VALUE=DATE-TIME:20260425T230000Z
DTEND;VALUE=DATE-TIME:20260426T054500Z
UID:604788622941
DESCRIPTION:サービス管理責任者研修
LOCATION:
END:VEVENT
END:VCALENDAR
