BEGIN:VCALENDAR
VERSION:2.0
PRODID:-//chikkutakku.com//RDFCal 1.0//EN
X-WR-CALDESC:GoogleカレンダーやiCalendar形式情報を共有シェ
 アしましょう。近所のイベントから全国のイベントま
 で今日のイベント検索やスケジュールを決めるならち
 っくたっく
X-WR-CALNAME:ちっくたっく
X-WR-TIMEZONE:UTC
BEGIN:VEVENT
SUMMARY:【Android 対応】劇場アニメ・OVA 縛りカラオケ会【
 古めのアニソン友の会】
DTSTART;VALUE=DATE-TIME:20260425T123000Z
DTEND;VALUE=DATE-TIME:20260425T145900Z
UID:612565461725
DESCRIPTION:【イベント主催者】\n　Umihotaru うみほたる\n【
 イベント内容】\n　　【劇場アニメ】【OVA】の主題歌・
 挿入歌・イメージソングに限定したカラオケ会です。\n
 Web 配信の長篇アニメ、特撮映画、特撮 V シネの曲も含
 みます。\nもともと TV アニメで使われていた曲など、
 映画や OVA が初出でないものは除きます。\n\n「カラオ
 ケワールド JP KARAOKE」のワールドを使わせていただいて
 行いたいと思います。\nおもにYoutube上にあるカラオケ
 動画に頼ることになるので、特にマイナーな曲だと適
 した動画が見つからなかったりもすると思いますが（Di
 scord である程度まとめています）、そこはヴォーカル
 入りの音源で無理やり乗り切るなど泥臭く工夫してや
 っていきたいと思います。 \n\n歌いたい方も聴くだけの
 方も、歌とかわかんないけどちょっと気になるという
 方もお気軽にお集まりください。 途中参加、途中退出
 もご自由に。熱く盛り上がりましょう。\n\nVRChat Group: ht
 tps://vrc.group/ANISON.6975\nDiscord: https://discord.gg/N2duq4W2xQ\nX: ht
 tps://x.com/Furumeno_Anison\n\n\n【イベントジャンル】\n　その
 他交流会\n【参加条件（モデル、人数制限など）】\n　
 どちらさまもお気軽にどうぞ！！！！！\n【参加方法】
 \n　「Umihotaru うみほたる」にフレンド申請してくださ
 い； あとよければ Group にも入っていただいちゃったり
 とか\n【備考】\n　
LOCATION:
END:VEVENT
END:VCALENDAR
