BEGIN:VCALENDAR
VERSION:2.0
PRODID:-//chikkutakku.com//RDFCal 1.0//EN
X-WR-CALDESC:GoogleカレンダーやiCalendar形式情報を共有シェ
 アしましょう。近所のイベントから全国のイベントま
 で今日のイベント検索やスケジュールを決めるならち
 っくたっく
X-WR-CALNAME:ちっくたっく
X-WR-TIMEZONE:UTC
BEGIN:VEVENT
SUMMARY:(รองเสกสรรค์) ประชุมคณะอ
 นุกรรมการพิจารณาค่าตอบแท
 นผู้เสียหายและค่าทดแทนแล
 ะค่าใช้จ่ายแก่จำเลยในคดี
 อาญา ประจำจังหวัดศรีสะเกษ 
 ณ ห้องประชุมยุติธรรมธำรงส
 ุข สำนักงานยุติธรรมจังหวั
 ดศรีสะเกษ ชั้น 1 ศาลากลางจั
 งหวัดฯ
DTSTART;VALUE=DATE-TIME:20260424T073000Z
DTEND;VALUE=DATE-TIME:20260424T093000Z
UID:615785369874
DESCRIPTION:(รองเสกสรรค์) ประชุมคณ
 ะอนุกรรมการพิจารณาค่าตอบ
 แทนผู้เสียหายและค่าทดแทน
 และค่าใช้จ่ายแก่จำเลยในค
 ดีอาญา ประจำจังหวัดศรีสะเ
 กษ ณ ห้องประชุมยุติธรรมธำร
 งสุข สำนักงานยุติธรรมจังห
 วัดศรีสะเกษ ชั้น 1 ศาลากลาง
 จังหวัดฯ
LOCATION:
END:VEVENT
END:VCALENDAR
