BEGIN:VCALENDAR
VERSION:2.0
PRODID:-//chikkutakku.com//RDFCal 1.0//EN
X-WR-CALDESC:GoogleカレンダーやiCalendar形式情報を共有シェ
 アしましょう。近所のイベントから全国のイベントま
 で今日のイベント検索やスケジュールを決めるならち
 っくたっく
X-WR-CALNAME:ちっくたっく
X-WR-TIMEZONE:UTC
BEGIN:VEVENT
SUMMARY:OpenSmileカフェ(16:00-17:30)
DTSTART;VALUE=DATE:20260421
DTEND;VALUE=DATE:20260422
UID:619391092849
DESCRIPTION:保護者
LOCATION:七尾みなとこども園
END:VEVENT
END:VCALENDAR
