BEGIN:VCALENDAR
VERSION:2.0
PRODID:-//chikkutakku.com//RDFCal 1.0//EN
X-WR-CALDESC:GoogleカレンダーやiCalendar形式情報を共有シェ
 アしましょう。近所のイベントから全国のイベントま
 で今日のイベント検索やスケジュールを決めるならち
 っくたっく
X-WR-CALNAME:ちっくたっく
X-WR-TIMEZONE:UTC
BEGIN:VEVENT
SUMMARY:VRマダミス『琲華良★浪漫事件録 藤堂家家長刺殺
 事件』
DTSTART;VALUE=DATE-TIME:20260427T113000Z
DTEND;VALUE=DATE-TIME:20260427T145900Z
UID:620383346775
DESCRIPTION:【イベント主催者】\n　イマーシブクラウド\n
 【イベント内容】\n　VRマーダーミステリー『琲華良★
 浪漫事件録 藤堂家家長刺殺事件』を一緒に遊ぼう！\n
 【イベントジャンル】\n　その他交流会\, ロールプレイ
 \, 初心者向けイベント\, 定期イベント\n【参加条件（モ
 デル、人数制限など）】\n　『琲華良★浪漫事件録 藤
 堂家家長刺殺事件』を遊んだことが無い人\n【参加方法
 】\n　イマーシブクラウドのディスコードサーバーに入
 って該当チャンネルに参加申し込みを書き込む\n【備考
 】\n　https://x.com/immersivecloud/status/2039715679453266281?s=20
LOCATION:
END:VEVENT
END:VCALENDAR
