BEGIN:VCALENDAR
VERSION:2.0
PRODID:-//chikkutakku.com//RDFCal 1.0//EN
X-WR-CALDESC:GoogleカレンダーやiCalendar形式情報を共有シェ
 アしましょう。近所のイベントから全国のイベントま
 で今日のイベント検索やスケジュールを決めるならち
 っくたっく
X-WR-CALNAME:ちっくたっく
X-WR-TIMEZONE:UTC
BEGIN:VEVENT
SUMMARY:ごはんを変えると人生が変わる
DTSTART;VALUE=DATE:20260508
DTEND;VALUE=DATE:20260509
UID:626506957125
DESCRIPTION:2026-05-09ごはんを変えると人生が変わる姫野友
 美大和書房
LOCATION:
END:VEVENT
END:VCALENDAR
